BEGIN:VCALENDAR
VERSION:2.0
PRODID:-//pretix//pretix.eu//
BEGIN:VTIMEZONE
TZID:Europe/Berlin
BEGIN:STANDARD
DTSTART:20001029T040000
RRULE:FREQ=YEARLY;BYDAY=-1SU;BYMONTH=10
TZNAME:CET
TZOFFSETFROM:+0200
TZOFFSETTO:+0100
END:STANDARD
BEGIN:DAYLIGHT
DTSTART:20000326T030000
RRULE:FREQ=YEARLY;BYDAY=-1SU;BYMONTH=3
TZNAME:CEST
TZOFFSETFROM:+0100
TZOFFSETTO:+0200
END:DAYLIGHT
END:VTIMEZONE
BEGIN:VEVENT
UID:pretix-nodeforum-node-code-4317423@ticket.nodeforum.org
DTSTART;TZID=Europe/Berlin:20250129T100000
DTEND;TZID=Europe/Berlin:20250129T160000
DESCRIPTION:Tickets: https://ticket.nodeforum.org/node-code/4317423/\nAdmis
 sion: 2025-01-31 09:30\nOrganizer: NODE Verein zur Förderung Digitaler Ku
 ltur e.V
DTSTAMP:20260419T154136Z
LOCATION:Dash.Press GbR. Fahrgasse 87\, 60311 Frankfurt am Main
SUMMARY:NODE+CODE Workshop: Hybrid Publishing – experimental formats in w
 eb & print
END:VEVENT
END:VCALENDAR
