BEGIN:VCALENDAR
VERSION:2.0
PRODID:-//pretix//pretix.eu//
BEGIN:VTIMEZONE
TZID:Europe/Berlin
BEGIN:STANDARD
DTSTART:20001029T040000
RRULE:FREQ=YEARLY;BYDAY=-1SU;BYMONTH=10
TZNAME:CET
TZOFFSETFROM:+0200
TZOFFSETTO:+0100
END:STANDARD
BEGIN:DAYLIGHT
DTSTART:20000326T030000
RRULE:FREQ=YEARLY;BYDAY=-1SU;BYMONTH=3
TZNAME:CEST
TZOFFSETFROM:+0100
TZOFFSETTO:+0200
END:DAYLIGHT
END:VTIMEZONE
BEGIN:VEVENT
UID:pretix-nodeforum-node-code-3994218@ticket.nodeforum.org
DTSTART;TZID=Europe/Berlin:20231109T000000
DTEND;TZID=Europe/Berlin:20231110T000000
DESCRIPTION:Tickets: https://ticket.nodeforum.org/node-code/3994218/\nOrgan
 izer: NODE Verein zur Förderung Digitaler Kultur e.V
DTSTAMP:20260421T080053Z
LOCATION:Crespo Studio\, Berliner Straße 27\, Frankfurt
SUMMARY:N+C #11 Workshop
END:VEVENT
END:VCALENDAR
