BEGIN:VCALENDAR
VERSION:2.0
PRODID:-//pretix//pretix.eu//
BEGIN:VTIMEZONE
TZID:Europe/Berlin
BEGIN:STANDARD
DTSTART:20001029T040000
RRULE:FREQ=YEARLY;BYDAY=-1SU;BYMONTH=10
TZNAME:CET
TZOFFSETFROM:+0200
TZOFFSETTO:+0100
END:STANDARD
BEGIN:DAYLIGHT
DTSTART:20000326T030000
RRULE:FREQ=YEARLY;BYDAY=-1SU;BYMONTH=3
TZNAME:CEST
TZOFFSETFROM:+0100
TZOFFSETTO:+0200
END:DAYLIGHT
END:VTIMEZONE
BEGIN:VEVENT
UID:pretix-nodeforum-jhffm26-0@ticket.nodeforum.org
DTSTART;TZID=Europe/Berlin:20260529T150000
DTEND;TZID=Europe/Berlin:20260531T170000
DESCRIPTION:Tickets: https://ticket.nodeforum.org/jhffm26/\nEinlass: 29.05.
 2026 14:00\nVeranstalter: NODE Verein zur Förderung Digitaler Kultur e.V
DTSTAMP:20260424T141359Z
LOCATION:Jugendhaus Riedberg\, Friedrich-Dessauer-Straße 4-6\, 60438 Frank
 furt am Main
SUMMARY:Jugend hackt in Frankfurt am Main 2026
END:VEVENT
END:VCALENDAR
